BEGIN:VCALENDAR
PRODID:-//hacksw/handcal//NONSGML v1.0//EN
VERSION:2.0
METHOD:PUBLISH
BEGIN:VEVENT
DTSTART:20140514T213000Z
DTEND:20140514T233000Z
LOCATION:Cafe Ponte 13505 Icot Blvd #214, Clearwater, FL 33760
UID:1037020140514T213000ZSpring Soical
DTSTAMP:20260420T182248Z
DESCRIPTION:
SUMMARY:Spring Soical - Pinellas County Estate Planning Council, Inc. 
PRIORITY:3
BEGIN:VALARM
TRIGGER:PT18H
ACTION:DISPLAY
DESCRIPTION:Reminder
END:VALARM
END:VEVENT
END:VCALENDAR