BEGIN:VCALENDAR
PRODID:-//hacksw/handcal//NONSGML v1.0//EN
VERSION:2.0
METHOD:PUBLISH
BEGIN:VEVENT
DTSTART:20150126T170000Z
DTEND:20150126T180000Z
LOCATION:Ruth Eckerd Hall 1111 McMullen Booth Rd. Clearwater, FL 33759 @ The Great Room 3rd Floor
UID:1055220150126T170000Z“2015 Tax Outlooks and Changes”.
DTSTAMP:20260420T182448Z
DESCRIPTION:
SUMMARY:“2015 Tax Outlooks and Changes”. - Pinellas County Estate Planning Council, Inc. 
PRIORITY:3
BEGIN:VALARM
TRIGGER:PT18H
ACTION:DISPLAY
DESCRIPTION:Reminder
END:VALARM
END:VEVENT
END:VCALENDAR