BEGIN:VCALENDAR
PRODID:-//hacksw/handcal//NONSGML v1.0//EN
VERSION:2.0
METHOD:PUBLISH
BEGIN:VEVENT
DTSTART:20150316T160000Z
DTEND:20150316T170000Z
LOCATION:Ruth Eckerd Hall 1111 McMullen Booth Rd. Clearwater, FL 33759 @ The Great Room 3rd Floor
UID:1055420150316T160000Z"ABC’s of Charitable Giving"
DTSTAMP:20260420T182637Z
DESCRIPTION:\nSponsorship of the Meeting: The University of TAMPA\n
SUMMARY:"ABC’s of Charitable Giving" - Pinellas County Estate Planning Council, Inc. 
PRIORITY:3
BEGIN:VALARM
TRIGGER:PT18H
ACTION:DISPLAY
DESCRIPTION:Reminder
END:VALARM
END:VEVENT
END:VCALENDAR