BEGIN:VCALENDAR
PRODID:-//hacksw/handcal//NONSGML v1.0//EN
VERSION:2.0
METHOD:PUBLISH
BEGIN:VEVENT
DTSTART:20150416T160000Z
DTEND:20150416T170000Z
LOCATION:Ruth Eckerd Hall 1111 McMullen Booth Rd. Clearwater, FL 33759 @ The Murray Studio
UID:1055520150416T160000ZGetting a Grip on Fiduciary Accounting Under the Florida Uniform Principal and Income Act, Chapter 738, Florida Statutes
DTSTAMP:20260420T182713Z
DESCRIPTION:
SUMMARY:Getting a Grip on Fiduciary Accounting Under the Florida Uniform Principal and Income Act, Chapter 738, Florida Statutes - Pinellas County Estate Planning Council, Inc. 
PRIORITY:3
BEGIN:VALARM
TRIGGER:PT18H
ACTION:DISPLAY
DESCRIPTION:Reminder
END:VALARM
END:VEVENT
END:VCALENDAR