BEGIN:VCALENDAR
PRODID:-//hacksw/handcal//NONSGML v1.0//EN
VERSION:2.0
METHOD:PUBLISH
BEGIN:VEVENT
DTSTART:20150518T160000Z
DTEND:20150518T170000Z
LOCATION:Ruth Eckerd Hall
UID:1055620150518T160000Z"Chronic Health Care and Funding Strategies." 
DTSTAMP:20260420T182658Z
DESCRIPTION:
SUMMARY:"Chronic Health Care and Funding Strategies."  - Pinellas County Estate Planning Council, Inc. 
PRIORITY:3
BEGIN:VALARM
TRIGGER:PT18H
ACTION:DISPLAY
DESCRIPTION:Reminder
END:VALARM
END:VEVENT
END:VCALENDAR