BEGIN:VCALENDAR
PRODID:-//hacksw/handcal//NONSGML v1.0//EN
VERSION:2.0
METHOD:PUBLISH
BEGIN:VEVENT
DTSTART:20150917T213000Z
DTEND:20150917T233000Z
LOCATION:Dunedin Fine Arts Museum
UID:1055720150917T213000ZFall Social
DTSTAMP:20260420T182524Z
DESCRIPTION:\n \nYou to invited to attend the\n 2015 Fall Membership Social\n\nWe encourage members to invite prospecitve members who spend a significant portion of time in estate planning, to join us for this Social.  \nThere is no charge to our members or their guests.\n  \n \nThe Social will be held at:\n \nDunedin Fine Art Center\n1143 Michigan Boulevard\nDunedin, FL 34698\n  \n \nThursday, September 17, 2015\n\n 5:30 – 7:30 p.m.\n  \nPlease RSVP by September 11th\n
SUMMARY:Fall Social - Pinellas County Estate Planning Council, Inc. 
PRIORITY:3
BEGIN:VALARM
TRIGGER:PT18H
ACTION:DISPLAY
DESCRIPTION:Reminder
END:VALARM
END:VEVENT
END:VCALENDAR