BEGIN:VCALENDAR
PRODID:-//hacksw/handcal//NONSGML v1.0//EN
VERSION:2.0
METHOD:PUBLISH
BEGIN:VEVENT
DTSTART:20151214T170000Z
DTEND:20151214T180000Z
LOCATION:Ruth Eckerd Hall, 1111 N. McMullen Booth Road, Clearwater 33759 
UID:1056120151214T170000ZCollaborative Process - The new (and improved) dispute resolution alternative for divorce, probate, labor, et al
DTSTAMP:20260420T182715Z
DESCRIPTION:\nThe luncheon meeting will be held at Ruth Eckerd Hall, Margarete Heye Great Room located at 1111 McMullen Booth Road, Clearwater 33759. The meeting will begin promptly at Noon with the opportunity to network at 11:30 a.m.\n \nAdvance reservations are required.\n \nMeeting Location:\n \nRuth Eckerd Hall, Margarete Heye Great Room - [DIRECTIONS](https://www.google.com/maps/place/Ruth+Eckerd+Hall/@27.9761096,-82.7046572,17z/data=!3m1!4b1!4m2!3m1!1s0x0:0x56b535f2c69622ab)\n \n1111 N. McMullen Booth Road\n Clearwater, FL 33759\n \n“Collaborative Process - The new (and improved) dispute resolution alternative for divorce, probate, labor, et al" presented by Nancy Harris, Esq. \n \nThank you to our Sponsor:\n \n\n ------\n\nFor more than 25 years, Nancy Harris has practiced exclusively in the area of marital and family law. Her firm, Harris & Hunt, P.A., focuses on complex family law matters using an expeditious cost/benefit approach to litigation or the private, client-directed collaborative divorce method. She is a frequent lecturer and has been recognized in Florida Super Lawyers®, Tampa Bay Magazine’s Top Lawyers, Legal Leaders’ Tampa’s Top Rated Lawyers, The National Advocates Top 100 Lawyers, The Best Lawyers in America, Law and Leading Attorneys of Florida, and Florida Trend’s Legal Elite. Ms. Harris is in the Bar Register of Preeminent Lawyers, consistently earning an AV rating; holds membership and committee positions with multiple Bar Associations, Inns of Court and Collaborative Divorce groups; wrote the chapter on Collaborative Divorce in the 2011-2015 editions of West’s Florida Family Law (Florida Practice Series); serves on the Board of Directors for The Tampa Theatre; summited Mt. Kilimanjaro in 2010; and in 2014, reached Everest’s Base Camp.\n
SUMMARY:Collaborative Process - The new (and improved) dispute resolution alternative for divorce, probate, labor, et al - Pinellas County Estate Planning Council, Inc. 
PRIORITY:3
BEGIN:VALARM
TRIGGER:PT18H
ACTION:DISPLAY
DESCRIPTION:Reminder
END:VALARM
END:VEVENT
END:VCALENDAR