BEGIN:VCALENDAR
PRODID:-//hacksw/handcal//NONSGML v1.0//EN
VERSION:2.0
METHOD:PUBLISH
BEGIN:VEVENT
DTSTART:20150513T213000Z
DTEND:20150513T233000Z
LOCATION:Cafe' Ponte
UID:1149020150513T213000ZSpring Social
DTSTAMP:20260420T182832Z
DESCRIPTION:
SUMMARY:Spring Social - Pinellas County Estate Planning Council, Inc. 
PRIORITY:3
BEGIN:VALARM
TRIGGER:PT18H
ACTION:DISPLAY
DESCRIPTION:Reminder
END:VALARM
END:VEVENT
END:VCALENDAR