BEGIN:VCALENDAR
PRODID:-//hacksw/handcal//NONSGML v1.0//EN
VERSION:2.0
METHOD:PUBLISH
BEGIN:VEVENT
DTSTART:20151021T110000Z
DTEND:20151021T160000Z
LOCATION:Ruth Eckerd Hall, 1111 N. McMullen Booth Road, Clearwater 33759
UID:1149320151021T110000Z4th Annual Estate Planning Seminar
DTSTAMP:20260420T182522Z
DESCRIPTION:\n4th Annual Estate Planning Seminar\n \nPresented by: The Pinellas County Estate Planning Council\n  \n7:00 a.m. – 7:30 a.m.\n   \nRegistration, Networking & Continental Breakfast\n   \n \n   \n7:30 a.m.\n   \nWelcome\n   \n \n   \n7:50 a.m.\n   \nPresentation on the National Association Estate Planning Council\n   \nLawrence Lehmann, Esq.\n   \n8:00 a.m.\n   \nSession 1:\nSuccessful Collaboration Among Estate Planning Professionals\n   \nLawrence Lehmann, Esq.\n   \n9:00 a.m.\n   \nSession 2:\nFiduciary Accounting\n   \nByron Smith, CPA\n Victoria Bartlett, CPA\n   \n10:00 a.m.\n   \nSession 3:\nEthics Grievances Against Estate & Trust Attorneys\n   \nLinda Griffin, Esq.\n Joe Corsmeier, Esq.\n   \n11:00 a.m.\n   \nSession 4:\nTrust Distributions: Mock Discretionary Committee Meeting\n   \nTravis D. Finchum, Esq.\n Darby Jones, Esq.\n Julie L. Farber, CTFA\n Susan Kubar, Esq.\n   \nNOON\n   \nAdjourn\n   \n \n  \nThank you to our Sponsors:\n \nClearwater Marine Aquarium\n \nFifth Third Bank\n \nPinellas Community Foundation\n \nRuth Eckerd Hall                   \n
SUMMARY:4th Annual Estate Planning Seminar - Pinellas County Estate Planning Council, Inc. 
PRIORITY:3
BEGIN:VALARM
TRIGGER:PT18H
ACTION:DISPLAY
DESCRIPTION:Reminder
END:VALARM
END:VEVENT
END:VCALENDAR