BEGIN:VCALENDAR
PRODID:-//hacksw/handcal//NONSGML v1.0//EN
VERSION:2.0
METHOD:PUBLISH
BEGIN:VEVENT
DTSTART:20160125T170000Z
DTEND:20160125T180000Z
LOCATION:Ruth Eckerd Hall, 1111 N. McMullen Booth Road, Clearwater 33759 
UID:1173720160125T170000ZTax Update
DTSTAMP:20260420T182553Z
DESCRIPTION:\nThe luncheon meeting will be held at Ruth Eckerd Hall, Margarete Heye Great Room located at 1111 McMullen Booth Road, Clearwater 33759. The meeting will begin promptly at Noon with the opportunity to network at 11:30 a.m.\n \nAdvance reservations are required.\n \nMeeting Location:\n \nRuth Eckerd Hall, Margarete Heye Great Room - [DIRECTIONS](https://www.google.com/maps/place/Ruth+Eckerd+Hall/@27.9761096,-82.7046572,17z/data=!3m1!4b1!4m2!3m1!1s0x0:0x56b535f2c69622ab)\n \n1111 N. McMullen Booth Road\n Clearwater, FL 33759\n \nThank you to our Sponsor:\n \n\n
SUMMARY:Tax Update - Pinellas County Estate Planning Council, Inc. 
PRIORITY:3
BEGIN:VALARM
TRIGGER:PT18H
ACTION:DISPLAY
DESCRIPTION:Reminder
END:VALARM
END:VEVENT
END:VCALENDAR