BEGIN:VCALENDAR
PRODID:-//hacksw/handcal//NONSGML v1.0//EN
VERSION:2.0
METHOD:PUBLISH
BEGIN:VEVENT
DTSTART:20160421T160000Z
DTEND:20160421T170000Z
LOCATION:Ruth Eckerd Hall, 1111 N. McMullen Booth Road, Clearwater 33759 
UID:1174020160421T160000ZPractice Challenges in Probate and Guardianship
DTSTAMP:20260420T182555Z
DESCRIPTION:\nPractice Challenges in Probate and Guardianship\n \nA general view from the bench regarding administration and litigation of probate and guardianship cases.  Particular problem areas will be discussed including:\n Establishing lost wills Pay on death and joint accounts in guardianship cases Homestead issues in “co-ops” Notice requirements Claims in Summary Administrations ------\n\nThe luncheon meeting will be held at Ruth Eckerd Hall, Margarete Heye Great Room located at 1111 McMullen Booth Road, Clearwater 33759. The meeting will begin promptly at Noon with the opportunity to network at 11:30 a.m.\n ------\n\nMeeting Location:\n \nRuth Eckerd Hall ~ Margarete Heye Great Room - [DIRECTIONS](https://www.google.com/maps/place/Ruth+Eckerd+Hall/@27.9761096,-82.7046572,17z/data=%213m1%214b1%214m2%213m1%211s0x0:0x56b535f2c69622ab)\n \n1111 N. McMullen Booth Road\n Clearwater, FL 33759\n ------\n\nThank you to our Sponsor:\n \n\n \nJoint Meeting with the Clearwater Bar Association\n ------\n\nAdvance reservations are required.\n \nMembers - FREE (Included in Annual Dues)\n \nPotential Members - FREE (1st Time Guests that are potential members)\n \nGuests - $25.00\n
SUMMARY:Practice Challenges in Probate and Guardianship - Pinellas County Estate Planning Council, Inc. 
PRIORITY:3
BEGIN:VALARM
TRIGGER:PT18H
ACTION:DISPLAY
DESCRIPTION:Reminder
END:VALARM
END:VEVENT
END:VCALENDAR