BEGIN:VCALENDAR
PRODID:-//hacksw/handcal//NONSGML v1.0//EN
VERSION:2.0
METHOD:PUBLISH
BEGIN:VEVENT
DTSTART:20160516T160000Z
DTEND:20160516T170000Z
LOCATION:Ruth Eckerd Hall, 1111 N. McMullen Booth Road, Clearwater 33759 
UID:1174120160516T160000ZCash for Your Warhol: Art & Tangible Property Valuation for Estate Tax Purposes
DTSTAMP:20260420T182714Z
DESCRIPTION:\nCash for Your Warhol: Art & Tangible Property Valuation for Estate Tax Purposes\n \nThe world of fine art can be a tricky place, especially when the IRS gets involved. Find out what to look for and what to look out for when valuing fine art in a taxable estate. \n\n Joe Niewierski is Director of Appraisals at Drake Appraisals, performing valuations of fine art, antiques and other tangible property for donation, estate tax, insurance, equitable distribution and other purposes. Drake appraisals can also handle full estate inventory and valuation. Joe has trained in fine art valuation through the NYU School for Continuing Professional Studies and has over 15 years experience as a dealer of fine art prints and 20th century books.\n ------\n\nThe luncheon meeting will be held at Ruth Eckerd Hall, Margarete Heye Great Room located at 1111 McMullen Booth Road, Clearwater 33759. The meeting will begin promptly at Noon with the opportunity to network at 11:30 a.m.\n ------\n\nMeeting Location:\n \nRuth Eckerd Hall ~ Margarete Heye Great Room - [DIRECTIONS](https://www.google.com/maps/place/Ruth+Eckerd+Hall/@27.9761096,-82.7046572,17z/data=%213m1%214b1%214m2%213m1%211s0x0:0x56b535f2c69622ab)\n \n1111 N. McMullen Booth Road\n Clearwater, FL 33759\n ------\n\nThank you to our Sponsor:\n \n\n ------\n\nAdvance reservations are required.\n \nMembers - FREE (Included in Annual Dues)\n \nPotential Members - FREE (1st Time Guests that are potential members)\n \nGuests - $25.00\n
SUMMARY:Cash for Your Warhol: Art & Tangible Property Valuation for Estate Tax Purposes - Pinellas County Estate Planning Council, Inc. 
PRIORITY:3
BEGIN:VALARM
TRIGGER:PT18H
ACTION:DISPLAY
DESCRIPTION:Reminder
END:VALARM
END:VEVENT
END:VCALENDAR