BEGIN:VCALENDAR
PRODID:-//hacksw/handcal//NONSGML v1.0//EN
VERSION:2.0
METHOD:PUBLISH
BEGIN:VEVENT
DTSTART:20161107T164500Z
DTEND:20161107T180000Z
LOCATION:Ruth Eckerd Hall
UID:1346720161107T164500ZWills of Famous Women and the Lessons They Teach Us
DTSTAMP:20260420T182554Z
DESCRIPTION:\nThe luncheon meeting will be held at Ruth Eckerd Hall, Margarete Heye Great Room located at 1111 McMullen Booth Road, Clearwater 33759. The meeting will begin promptly at Noon with the opportunity to network at 11:30 a.m.\n ------\n\nMeeting Location:\n \nRuth Eckerd Hall ~ Margarete Heye Great Room - [DIRECTIONS](https://www.google.com/maps/place/Ruth+Eckerd+Hall/@27.9761096,-82.7046572,17z/data=%213m1%214b1%214m2%213m1%211s0x0:0x56b535f2c69622ab)\n \n1111 N. McMullen Booth Road\n Clearwater, FL 33759\n ------\n\nAdvance reservations are required.\n \nMembers - FREE (Included in Annual Dues)\n \nPotential Members - FREE (1st Time Guests that are potential members)\n \nGuests - $25.00\n ------\n\nSpeaker Bio:\n \nMichael E.S. McCarthy\n \nManaging Director, Trust Fiduciary Executive, Office of Chief Fiduciary, U.S. Trust\n \nMichael E.S. McCarthy is the Trust Fiduciary Executive for the Central and Western Divisions of U.S. Trust. Michael is a trusts and estates attorney and is admitted to practice law in New York and California.\n \nPrior to joining U.S. Trust seven years ago, Mr. McCarthy was the managing director, chief fiduciary officer, and director of the Wealth Analytics Group at an international private bank for 12 years. Prior to moving into private wealth management, Mr. McCarthy, practiced law for 14 years with Milbank, Tweed, Hadley & McCloy in New York and Los Angeles, specializing in estate planning and structuring charitable gift transfers for affluent families.\n \nMichael received his B.A. from Holy Cross College, his M.A. in Philosophy, Politics and Economics, from Oxford University, England, and his J.D. from Columbia University School of Law, where he was the Executive Editor of the Law Journal.\n \nMichael currently serves on the Paintings Conservation Council at the J. Paul Getty Museum. He has also served on the board of directors of Common Ground and Project New Hope, both of which he founded in Santa Monica, California.\n
SUMMARY:Wills of Famous Women and the Lessons They Teach Us - Pinellas County Estate Planning Council, Inc. 
PRIORITY:3
BEGIN:VALARM
TRIGGER:PT18H
ACTION:DISPLAY
DESCRIPTION:Reminder
END:VALARM
END:VEVENT
END:VCALENDAR