BEGIN:VCALENDAR
PRODID:-//hacksw/handcal//NONSGML v1.0//EN
VERSION:2.0
METHOD:PUBLISH
BEGIN:VEVENT
DTSTART:20161205T164500Z
DTEND:20161205T180000Z
LOCATION:Ruth Eckerd Hall
UID:1346820161205T164500ZSocial Media Strategy
DTSTAMP:20260420T182448Z
DESCRIPTION:\nThe luncheon meeting will be held at Ruth Eckerd Hall, Margarete Heye Great Room located at 1111 McMullen Booth Road, Clearwater 33759. The meeting will begin promptly at Noon with the opportunity to network at 11:30 a.m.\n ------\n\nThank you to our Sponsor:\n \n\n ------\n\nMeeting Location:\n \nRuth Eckerd Hall ~ Margarete Heye Great Room - [DIRECTIONS](https://www.google.com/maps/place/Ruth+Eckerd+Hall/@27.9761096,-82.7046572,17z/data=%213m1%214b1%214m2%213m1%211s0x0:0x56b535f2c69622ab)\n \n1111 N. McMullen Booth Road\n Clearwater, FL 33759\n ------\n\nAdvance reservations are required.\n \nMembers - FREE (Included in Annual Dues)\n \nPotential Members - FREE (1st Time Guests that are potential members)\n \nGuests - $25.00\n ------\n\nBryn Warner Bio\n \nBryn attended Brewton-Parker College in Mt.Vernon, Georgia, where he received a Bachelors Degree in Psychology and Ministry.  Bryn has been in the non-profit industry since 1989 serving in churches, state government, the American Cancer Society and now Suncoast Hospice Foundation / Empath Health.  He is also the principal at Warner & Associates Consulting helping small businesses tackle social media in the digital age. \n \nHe holds several leadership positions in the community from the Association of Fundraising Professionals, Leadership St Pete to his local YMCA.  He holds a CFRE certification and teaches non-profit strategy and social media to other non-profit professionals through AFP and the NonProfit Leadership Center of Tampa Bay. \n \nDuring his career, he has worked on capital campaigns, special events, planned giving, major gifts and endowments as well as marketing and social media campaigns in a variety of settings. \n \nHe has a global background and works with people from all backgrounds to help them achieve success.\n
SUMMARY:Social Media Strategy - Pinellas County Estate Planning Council, Inc. 
PRIORITY:3
BEGIN:VALARM
TRIGGER:PT18H
ACTION:DISPLAY
DESCRIPTION:Reminder
END:VALARM
END:VEVENT
END:VCALENDAR