BEGIN:VCALENDAR
PRODID:-//hacksw/handcal//NONSGML v1.0//EN
VERSION:2.0
METHOD:PUBLISH
BEGIN:VEVENT
DTSTART:20170123T164500Z
DTEND:20170123T180000Z
LOCATION:Ruth Eckerd Hall
UID:1346920170123T164500Z2016 Income Tax Update
DTSTAMP:20260420T182658Z
DESCRIPTION:\nDebi Alberdi CPA, Partner at Carr, Riggs & Ingram LLC will be discusinng tax law changes and recent developments affecting the filing of 2016 Income Tax Returns. \n ------\n\nThe luncheon meeting will be held at Ruth Eckerd Hall, Margarete Heye Great Room located at 1111 McMullen Booth Road, Clearwater 33759. The meeting will begin promptly at Noon with the opportunity to network at 11:30 a.m.\n ------\n\nThank you to our Sponsor:\n \n[](http://www.cricpa.com/)\n ------\n\nMeeting Location:\n \nRuth Eckerd Hall ~ Margarete Heye Great Room - [DIRECTIONS](https://www.google.com/maps/place/Ruth+Eckerd+Hall/@27.9761096,-82.7046572,17z/data=%213m1%214b1%214m2%213m1%211s0x0:0x56b535f2c69622ab)\n \n1111 N. McMullen Booth Road\n Clearwater, FL 33759\n ------\n\nAdvance reservations are required.\n \nMembers - FREE (Included in Annual Dues)\n \nPotential Members - FREE (1st Time Guests that are potential members)\n \nGuests - $25.00\n
SUMMARY:2016 Income Tax Update - Pinellas County Estate Planning Council, Inc. 
PRIORITY:3
BEGIN:VALARM
TRIGGER:PT18H
ACTION:DISPLAY
DESCRIPTION:Reminder
END:VALARM
END:VEVENT
END:VCALENDAR