BEGIN:VCALENDAR
PRODID:-//hacksw/handcal//NONSGML v1.0//EN
VERSION:2.0
METHOD:PUBLISH
BEGIN:VEVENT
DTSTART:20170227T164500Z
DTEND:20170227T180000Z
LOCATION:Ruth Eckerd Hall
UID:1347020170227T164500ZSuccessful Incorporation of Charity into the Business Exit Plan
DTSTAMP:20260420T182616Z
DESCRIPTION:\nSuccessful Incorporation of Charity into the Business Exit Plan\n \nMany successful business owners also are or should be major supporters and benefactors of various charitable organizations.  For these owners, a charitable component often is included in their business exit plans and with proper planning create a win-win-win solution for the current business owner, the business owner's successors and the charity.  This presentations will discuss the 7 steps of the Exit Planning Process and how charity fits into that process.\n \nWilliam Battle McQueen, CPA, JD, LLM, CExP is an attorney at law who focueses on succession planning, estate planning and asset protection for business owners and high net worth individuals.  He holds the designation of Certified Exit Planner from the Business Enterprise Institute.  His firm's website is www.LegacyProtectionLawyers.com.\n ------\n\nThe luncheon meeting will be held at Ruth Eckerd Hall, Margarete Heye Great Room located at 1111 McMullen Booth Road, Clearwater 33759. The meeting will begin promptly at Noon with the opportunity to network at 11:30 a.m.\n ------\n\nMeeting Location:\n \nRuth Eckerd Hall ~ Margarete Heye Great Room - [DIRECTIONS](https://www.google.com/maps/place/Ruth+Eckerd+Hall/@27.9761096,-82.7046572,17z/data=%213m1%214b1%214m2%213m1%211s0x0:0x56b535f2c69622ab)\n \n1111 N. McMullen Booth Road\n Clearwater, FL 33759\n ------\n\nAdvance reservations are required.\n \nMembers - FREE (Included in Annual Dues)\n \nPotential Members - FREE (1st Time Guests that are potential members)\n \nGuests - $25.00\n \n \n
SUMMARY:Successful Incorporation of Charity into the Business Exit Plan - Pinellas County Estate Planning Council, Inc. 
PRIORITY:3
BEGIN:VALARM
TRIGGER:PT18H
ACTION:DISPLAY
DESCRIPTION:Reminder
END:VALARM
END:VEVENT
END:VCALENDAR