BEGIN:VCALENDAR
PRODID:-//hacksw/handcal//NONSGML v1.0//EN
VERSION:2.0
METHOD:PUBLISH
BEGIN:VEVENT
DTSTART:20161019T110000Z
DTEND:20161019T160000Z
LOCATION:
UID:1347420161019T110000Z5th Annual Estate Planning Seminar
DTSTAMP:20260420T182832Z
DESCRIPTION:\n5th Annual\n Pinellas County Estate Planning Council Seminar\n \nDate: Wednesday, October 19, 2016\n Time: 7:00am - Noon\n\n Location: \n Ruth Eckerd Hall\n 1111 N. McMullen Booth Road\n Clearwater 33759\n  \n APPROVED FOR 4.00 CFP AND ATTORNEY\n CONTINUING EDUCATION CREDIT HOURS\n\n SPONSORED BY:\n\n\n\n\n\n\n\n\n\n\n  \n\n  \n \n\n \n  \n \nSEMINAR SCHEDULE\n \n\n Session 1                   A View from Washington - Congress & Elections in 2016     Presented by: Josh Wilsusen, Executive Director of Morgan Stanley Government Relations\n\n Session 2                  Implementing Cyber Security - Safety Holding Client Information and Limiting your Liability     Presented by: Lisa Shasteen, Esq. Shasteen & Percy, P.A.\n\n Session 3                   Elder Financial Abuse: Issues and Relief in Florida     Presented by: Robert W. Lang, Esq. Holland & Knight\n\n Session 4                   706 Estate Tax Panel: 8971, Portability, Basis Reporting & 2704 Regulations     Presented by: David Sietsma, CPA Carr Riggs & Ingram; Nicholas Grimaudo, Esq. Johnson, Pope, Bokor, Ruppel & Burns, LLP; Jolyon Acosta, Esq. Bush Ross, Kim Difabio IRS Agent \n  ------\nThe Council has a NEW email address:\n\n info@pinellascountyepc.org
SUMMARY:5th Annual Estate Planning Seminar - Pinellas County Estate Planning Council, Inc. 
PRIORITY:3
BEGIN:VALARM
TRIGGER:PT18H
ACTION:DISPLAY
DESCRIPTION:Reminder
END:VALARM
END:VEVENT
END:VCALENDAR