BEGIN:VCALENDAR
PRODID:-//hacksw/handcal//NONSGML v1.0//EN
VERSION:2.0
METHOD:PUBLISH
BEGIN:VEVENT
DTSTART:20170925T154500Z
DTEND:20170925T170000Z
LOCATION:Ruth Eckerd Hall
UID:1476320170925T154500ZThe Continued Importance of Diversification in the Management of Investment Portfolios
DTSTAMP:20260420T182334Z
DESCRIPTION:\n \n \n \n \nThe luncheon meeting will be held at Ruth Eckerd Hall, Margarete Heye Great Room located at 1111 McMullen Booth Road, Clearwater 33759. The meeting will begin promptly at Noon with the opportunity to network at 11:30 a.m.\n \n \n ------\n\nLuncheon Sponsor:\n \nMorgan Stanley ~ Abelson Group \n \n\n ------\n\nMeeting Location:\n \nRuth Eckerd Hall ~ Margarete Heye Great Room - [DIRECTIONS](https://www.google.com/maps/place/Ruth+Eckerd+Hall/@27.9761096,-82.7046572,17z/data=%213m1%214b1%214m2%213m1%211s0x0:0x56b535f2c69622ab)\n \n1111 N. McMullen Booth Road\n Clearwater, FL 33759\n ------\n\nAdvance reservations are required.\n \nMembers - FREE (Included in Annual Dues)\n \nPotential Members - FREE (1st Time Guests that are potential members)\n \nGuests - $25.00\n ------\n\nAdam Abelson BIO:\n \nAdam is a graduate of Duke University with a Bachelor of Science degree in Biology. His scientific background directly enhances his ability to conduct detailed analysis on fundamental company research, financial plans, retirement plans, portfolio allocation, risk exposure, and performance statistics. Adam joined the Abelson Group at Morgan Stanley in 2015. He focuses on financial and retirement planning, equity portfolio management, fixed-income portfolios, and fundamental equity research. He was born in Palm Harbor, Florida and attended Berkeley Preparatory School. Adam has a strong focus on supporting arts and education. He serves on the investment committee of Ruth Eckerd Hall, is involved with Junior Achievement to teach Tampa Bay children about personal finance, is his class representative as an active alum at Berkeley Prep, and he is a member of the Pinellas County Estate Planning Council. Adam is committed to having a global perspective, and has extensive experience travelling through Asia, Europe, and South America. He enjoys soccer, golf, skiing, hiking, and travel, and in his own studies, he stays up to date on international relations, biomedical devices, and new disruptive technologies.\n
SUMMARY:The Continued Importance of Diversification in the Management of Investment Portfolios - Pinellas County Estate Planning Council, Inc. 
PRIORITY:3
BEGIN:VALARM
TRIGGER:PT18H
ACTION:DISPLAY
DESCRIPTION:Reminder
END:VALARM
END:VEVENT
END:VCALENDAR