BEGIN:VCALENDAR
PRODID:-//hacksw/handcal//NONSGML v1.0//EN
VERSION:2.0
METHOD:PUBLISH
BEGIN:VEVENT
DTSTART:20171018T110000Z
DTEND:20171018T160000Z
LOCATION:Ruth Eckerd Hall 
UID:1476820171018T110000Z 6th Annual Pinellas County Estate Planning Council Seminar
DTSTAMP:20260420T182617Z
DESCRIPTION:\n \n \n \n \n\nOctober 18, 2017\n \nRuth Eckerd Hall – Margarete Haye Great Room\n \n1111 N McMullen Booth Rd, Clearwater, FL 33759\n  \n7:00 a.m. – 7:30 a.m.\n   \nRegistration, Networking & Continental Breakfast\n   \nSpeaker\n   \n7:30 a.m.\n   \nWelcome\n   \n \n   \n7:50 a.m.\n   \nIntroductions\n   \nLea Ann Collins, Pres. PCEPC\n   \n8:00 a.m.\n   \nSession 1: Top 10 Pitfalls in Drafting Prenupital Agreements \n   \nKy Koch, Esquire & Courtney Koch, Esquire, Koch & Hoffman, P.A. \n   \n8:50 a.m.\n   \nBREAK\n   \n \n   \n9:00 a.m.\n   \nSession 2: Managing Clients with Memory Loss\n \n \n   \nEileen Poiley, Director of Education at the USF Health Byrd Alzheimer’s Institute \n   \n9:50 a.m.\n   \nBREAK\n   \n \n   \n10:00 a.m.\n   \nSession 3: Panel Discussion – Interdisciplinary Approach to Ethics and Clients with Memory Loss\n \n \n   \nSandra Diamond, Esquire, Williamson, Diamond & Canton, P.A.;\n \nGinger Snyder, CFP, 360 Wealth Management Group of Raymond James;\n \nJim Carlstedt, CPA, CJN&W CPAs, P.A.\n   \n10:50 a.m.\n   \nBREAK\n   \n \n   \n11:00 a.m.\n \n \n \n                  \n   \nSession 4: International Estate Planning for Non-U.S. Citizens or U.S. Citizens with Non-U.S. Assets \n   \nAndrea Darling de Cortes, Esquire and \n \nDavid Barnhill, Esquire, Sharp Partners P.A.\n   \nNOON\n   \nAdjourn\n   \n \n  \nPCEPC Members - $85.00\n \nGuests - $95.00\n \nAdvance reservations are required.\n
SUMMARY: 6th Annual Pinellas County Estate Planning Council Seminar - Pinellas County Estate Planning Council, Inc. 
PRIORITY:3
BEGIN:VALARM
TRIGGER:PT18H
ACTION:DISPLAY
DESCRIPTION:Reminder
END:VALARM
END:VEVENT
END:VCALENDAR