BEGIN:VCALENDAR
PRODID:-//hacksw/handcal//NONSGML v1.0//EN
VERSION:2.0
METHOD:PUBLISH
BEGIN:VEVENT
DTSTART:20170913T213000Z
DTEND:20170913T233000Z
LOCATION:Island Way Grill, 20 Island Way, Cleawater FL 33767
UID:1491820170913T213000Z2017 Fall Social
DTSTAMP:20260420T182303Z
DESCRIPTION:\nYou are invited to attend the\n 2017 Fall Membership Social\n\nWe encourage members to invite prospective members who spend a significant portion of time in estate planning, to join us for this Social.  \nThere is no charge to our members or their guests.\n  \n \nThe Social will be held at:\n \nIsland Way Grill\n20 Island Way\nClearwater, FL 33767\n  \n \nWednesday, September 13, 2017\n\n 5:30 – 7:30 p.m.\n  \nPlease RSVP by September 9th\n \n \n \nSPONSOR\n \n\n
SUMMARY:2017 Fall Social - Pinellas County Estate Planning Council, Inc. 
PRIORITY:3
BEGIN:VALARM
TRIGGER:PT18H
ACTION:DISPLAY
DESCRIPTION:Reminder
END:VALARM
END:VEVENT
END:VCALENDAR