BEGIN:VCALENDAR
PRODID:-//hacksw/handcal//NONSGML v1.0//EN
VERSION:2.0
METHOD:PUBLISH
BEGIN:VEVENT
DTSTART:20180207T223000Z
DTEND:20180208T003000Z
LOCATION:Island Way Grill 20 Island Way Clearwater, FL 33767
UID:1550720180207T223000Z2018 Winter Social
DTSTAMP:20260420T182638Z
DESCRIPTION:\n  \n\n2018 Winter Membership Social\n\nWe encourage members to invite prospective members who spend a significant portion of time in estate planning, to join us for this Social.  \nThere is no charge to our members or their guests.\n  \n \nThe Social will be held at:\n \nIsland Way Grill\n20 Island Way\nClearwater, FL 33767\n  \n \nWednesday, February 7, 2018\n\n 5:30 – 7:30 p.m.\n  \nPlease RSVP by February 2nd.\n \n \n \nSPONSOR\n \n\n
SUMMARY:2018 Winter Social - Pinellas County Estate Planning Council, Inc. 
PRIORITY:3
BEGIN:VALARM
TRIGGER:PT18H
ACTION:DISPLAY
DESCRIPTION:Reminder
END:VALARM
END:VEVENT
END:VCALENDAR