BEGIN:VCALENDAR
PRODID:-//hacksw/handcal//NONSGML v1.0//EN
VERSION:2.0
METHOD:PUBLISH
BEGIN:VEVENT
DTSTART:20181105T164500Z
DTEND:20181105T180000Z
LOCATION:Ruth Eckerd Hall
UID:1685120181105T164500ZSelf-Directed IRA and 401(k) for Wealth Building in Estates
DTSTAMP:20260420T182831Z
DESCRIPTION:\n                                                     \n  \n  \nThe luncheon meeting will be held at Ruth Eckerd Hall, Margarete Heye Great Room located at 1111 McMullen Booth Road, Clearwater 33759. The meeting will begin promptly at Noon with the opportunity to network at 11:30 a.m. \n \n \n \nMeeting Location:\n \nRuth Eckerd Hall ~ Margarete Heye Great Room - [DIRECTIONS](https://www.google.com/maps/place/Ruth+Eckerd+Hall/@27.9761096,-82.7046572,17z/data=%213m1%214b1%214m2%213m1%211s0x0:0x56b535f2c69622ab)\n \n1111 N. McMullen Booth Road\n Clearwater, FL 33759\n \n \n \n \n \nAdvance reservations are required.\n \nMembers - FREE (Included in Annual Dues)\n \nPotential Members - FREE (1st Time Guests that are potential members)\n \nGuests - $25.00\n ------\n\nJon A. Galane, CISP has been in the financial planning and investment business for over 32 years and held several National Association of Securities Dealers licenses including Broker/Dealer Supervisor and Licensed Investment Advisor. During his career, he has been a top producing investment advisor with Morgan Stanley, earning the title Vice President, and was the well-respected sales manager of the Las Vegas Complex. As a successful professional business person he was recognized in the 2002 edition of the National Register’s “Who’s Who, Executives and Professionals” and the 2011 Heritage “Who’s Who” register.\n \nJon is currently a member of the American Banking Association and Institute of Certified Bankers as a Certified IRA Services Professional (CISP). Jon is also a nationally recognized speaker on self-directed IRAs, real estate investing, and economic strategies. His accolades include speaking with: Lee Arnold, Robert Shemin, New York Times and Wall Street Journal bestselling author of 13 books and real estate investment mogul Ron LeGrand, Tom DiAgostino, and many others.\n \nJon is principal of Mountain West IRA, Inc. As a published author on self-direction using asset allocation and diversification, he coined the term “Alternative Asset Allocation Portfolio.” He has in the past hosted the radio show “How to Self-Direct Your Retirement”, the only show in the nation at the time on investing your retirement plans in real-estate related investments.\n ------\n\nMegan Galane, Director of Business Development, is a member of the American Banking Association and Institute of Certified Bankers as a Certified IRA Services Professional (CISP). She moved to Clearwater, Florida from Salt Lake City, Utah after completing her Bachelors of Science in Exercise and Sport Science. In her free time, Megan enjoys all things real estate and soaking up the Florida sun with her dog Baby.Megan acts as a point person for potential clients, she also provides training to the Business Development Team to ensure a positive experience for potential clients and clients.\n \n \n \n \n \n \n \n \n \n \n \n \n  \n 
SUMMARY:Self-Directed IRA and 401(k) for Wealth Building in Estates - Pinellas County Estate Planning Council, Inc. 
PRIORITY:3
BEGIN:VALARM
TRIGGER:PT18H
ACTION:DISPLAY
DESCRIPTION:Reminder
END:VALARM
END:VEVENT
END:VCALENDAR