BEGIN:VCALENDAR
PRODID:-//hacksw/handcal//NONSGML v1.0//EN
VERSION:2.0
METHOD:PUBLISH
BEGIN:VEVENT
DTSTART:20190520T154500Z
DTEND:20190520T170000Z
LOCATION:Ruth Eckerd Hall
UID:1685720190520T154500ZWorking with People with Dementia and Assessing Capacity
DTSTAMP:20260420T182756Z
DESCRIPTION:\n \n \n \n                                      \n \n \n \n \n \nDr. Diana Pollock, Board Certified Neurologist and Linda Chamberlain Board Certified Elder Law Attorney will discuss Dementia,  decisional capacity, community resources and practical tips for your practice.\n \nMemory disorder diagnosis are increasing.  Working with long term clients, new clients and client’s family members can be challenging when the client is diagnosed with a memory disorder or showing signs of a memory disorder.  This presentation will provide a medical update on dementia and review practical tools and resources you may want to add to your practice.\n  \n \n \n  \nThe luncheon meeting will be held at Ruth Eckerd Hall, Margarete Heye Great Room located at 1111 McMullen Booth Road, Clearwater 33759. The meeting will begin promptly at Noon with the opportunity to network at 11:30 a.m. \n \n \n ------\n\nLuncheon Sponsor: \n \n\n  \n \n \n \nMeeting Location:\n \nRuth Eckerd Hall ~ Margarete Heye Great Room - [DIRECTIONS](https://www.google.com/maps/place/Ruth+Eckerd+Hall/@27.9761096,-82.7046572,17z/data=%213m1%214b1%214m2%213m1%211s0x0:0x56b535f2c69622ab)\n \n1111 N. McMullen Booth Road\n Clearwater, FL 33759\n \n \n \nAdvance reservations are required.\n \nMembers - FREE (Included in Annual Dues)\n \nPotential Members - FREE (1st Time Guests that are potential members)\n \nGuests - $25.00\n \n \n \n \n
SUMMARY:Working with People with Dementia and Assessing Capacity - Pinellas County Estate Planning Council, Inc. 
PRIORITY:3
BEGIN:VALARM
TRIGGER:PT18H
ACTION:DISPLAY
DESCRIPTION:Reminder
END:VALARM
END:VEVENT
END:VCALENDAR