BEGIN:VCALENDAR
PRODID:-//hacksw/handcal//NONSGML v1.0//EN
VERSION:2.0
METHOD:PUBLISH
BEGIN:VEVENT
DTSTART:20191212T123000Z
DTEND:20191212T140000Z
LOCATION:St. Petersburg Yacht Club -  11 Central Ave, St. Petersburg, FL 33701
UID:1801220191212T123000ZInterpretation vs. Intent Panel Discussion
DTSTAMP:20260420T182447Z
DESCRIPTION:\n \n \nInterpretation vs. Intent Panel Discussion\n \n  \n Gentry Byrnes, Esq.\n\n Darby Jones, Esq.\n\n Erica Smith, Esq.\n \n   \n  \nPlease Note Location:\nSt. Petersburg Yacht Club\n11 Central Ave\nSt. Petersburg, FL 33701  \nStreet Parking is Available or Self Pay SPYC Garage ~ $7.00\n ------\n \n  \nPlease bring an unwrapped toy to the December Meeting!   \n\n\nJoin Suncoast Estate Planning Council in collecting unwrapped toys for the children at Johns Hopkins All Children's Hospital for the holidays. \n ------\n\nThe breakfast roundtable meeting will be held at the St. Petersburg Yacht Club - 11 Central Ave St. Petersburg, FL 33701 . The meeting will begin promptly at 8 am with BREAKFAST and the opportunity to visit with fellow SEPC members at 7:30 a.m.\n \nAdvance reservations are required.\n ------\n\nSponsored By:\n \n\n ------\n\n \n \nThe breakfast roundtable meeting will be held at the St. Petersburg Yacht Club -  11 Central Ave, St. Petersburg, FL 33701.  The meeting will begin promptly at 8 am with BREAKFAST and the opportunity to visit with fellow SEPC members at 7:30 a.m.\n \nAdvance reservations are required.\n \n \n \nMeeting Location:\n \nSt. Petersburg Yacht Club \n11 Central Ave, St. Petersburg, FL 33701\n \n \n
SUMMARY:Interpretation vs. Intent Panel Discussion - Pinellas County Estate Planning Council, Inc. 
PRIORITY:3
BEGIN:VALARM
TRIGGER:PT18H
ACTION:DISPLAY
DESCRIPTION:Reminder
END:VALARM
END:VEVENT
END:VCALENDAR