BEGIN:VCALENDAR
PRODID:-//hacksw/handcal//NONSGML v1.0//EN
VERSION:2.0
METHOD:PUBLISH
BEGIN:VEVENT
DTSTART:20190911T213000Z
DTEND:20190911T233000Z
LOCATION:Pinellas Community Foundation
UID:1812220190911T213000Z2019 Fall Social
DTSTAMP:20260420T182449Z
DESCRIPTION:\n\n Please Join Us!\n \n\n2019 Fall Social\n \n\n\nWednesday, September 11, 2019\n \n5:30 – 7:30 p.m.\n \n \n \n Pinellas Community Foundation\n \n17755 US Highway 19 N, Suite 150 \nClearwater, FL 33764\n \n \n \n We encourage members to invite prospective members who spend a significant portion of time in estate planning, to join us for this Social. There is no charge to our members or their guests.\n \n\n\nPlease RSVP by September 5th\n ------\n\nThank You to Our Sponsor!  \n \n \n \n\n \n \n \n \n \n \n
SUMMARY:2019 Fall Social - Pinellas County Estate Planning Council, Inc. 
PRIORITY:3
BEGIN:VALARM
TRIGGER:PT18H
ACTION:DISPLAY
DESCRIPTION:Reminder
END:VALARM
END:VEVENT
END:VCALENDAR