BEGIN:VCALENDAR
PRODID:-//hacksw/handcal//NONSGML v1.0//EN
VERSION:2.0
METHOD:PUBLISH
BEGIN:VEVENT
DTSTART:20191019T130000Z
DTEND:20191019T150000Z
LOCATION:Sand Key Park  1060 Gulf Blvd  Clearwater, FL 33767
UID:1828420191019T130000Z International Coastal Cleanup - Sand Key Park
DTSTAMP:20260420T182811Z
DESCRIPTION:\n \n \n \n \nThe Pinellas County Estate Planning Council is joining Keep Pinellas Beautiful to host this cleanup of Sand Key Park. Cleanup supplies, water, and sunscreen will be provided. Please wear clothing you don't mind getting dirty and closed toe shoes. Thank you for helping us keep Pinellas County beautiful!\n \nThis important day of giving is invaluable in keeping debris out of our waterways and away from our beautiful Pinellas County coasts. Join us this fall in this international volunteer effort to abate marine litter. With your assistance, we'll make our coast a more beautiful place and keep litter pollution out of our oceans.\n \n \n \n \n \n \n \n \n \n \n
SUMMARY: International Coastal Cleanup - Sand Key Park - Pinellas County Estate Planning Council, Inc. 
PRIORITY:3
BEGIN:VALARM
TRIGGER:PT18H
ACTION:DISPLAY
DESCRIPTION:Reminder
END:VALARM
END:VEVENT
END:VCALENDAR