BEGIN:VCALENDAR
PRODID:-//hacksw/handcal//NONSGML v1.0//EN
VERSION:2.0
METHOD:PUBLISH
BEGIN:VEVENT
DTSTART:20200423T123000Z
DTEND:20200423T133000Z
LOCATION:Zoom Live Meeting
UID:1938220200423T123000ZGuns and Roses: What Elder Law Attorneys Need to Know About Dementia and Gun Ownership
DTSTAMP:20260420T182639Z
DESCRIPTION:\nSUNCOAST ESTATE PLANNING COUNCIL INVITES YOU TO JOIN THEM FOR A ZOOM VIRTUAL MEETING!\n \nCLICK [HERE ](https://www.suncoastepc.org/events/event/17869)TO REGISTER NOW!!\n \n \n \nDementia comes in many forms and affects individuals differently. Some individuals may become violent, may suffer paranoia or delusions or live in the past.  If those individuals own guns, the danger can escalate for both the individual and others around them.  Issues arise as to what can be done, what should be done and how to protect everyone in the process. \n \nUsing a hypothetical of a World War II veteran, Mr. Jones, who is diagnosed with dementia and has guns in the home, this webinar will look at the variety of issues that arise and suggest practical solutions.\n \nAfter this presentation, the participants will be able to:\n Articulate what the red flag laws are and how they apply to individuals with guns and dementia. Recognize the ethical obligations and restrictions attorneys face when dealing with gun ownership and dementia. List the actions that can be taken by family and attorneys when they become concerned about an individual with dementia who owns a gun.   \n \n \n \n \nThis program is offered FREE.\n \n \n \nThe link to join the Zoom session will be sent the week of the meeting to all registrants.\n \n \n \nCLICK [HERE ](https://www.suncoastepc.org/events/event/17869)TO REGISTER NOW!!\n \n \n
SUMMARY:Guns and Roses: What Elder Law Attorneys Need to Know About Dementia and Gun Ownership - Pinellas County Estate Planning Council, Inc. 
PRIORITY:3
BEGIN:VALARM
TRIGGER:PT18H
ACTION:DISPLAY
DESCRIPTION:Reminder
END:VALARM
END:VEVENT
END:VCALENDAR