BEGIN:VCALENDAR
PRODID:-//hacksw/handcal//NONSGML v1.0//EN
VERSION:2.0
METHOD:PUBLISH
BEGIN:VEVENT
DTSTART:20210125T170000Z
DTEND:20210125T180000Z
LOCATION:Zoom
UID:1989720210125T170000Z2020 Tax Update and Beyond
DTSTAMP:20260420T182530Z
DESCRIPTION:\n2020 Tax Update & Beyond\n   \npresented by: Cathy Haug and Ryan Hayden\n Carr Riggs & Ingram\n \nThis year's "Tax Update" will feature updates for the 2020 filing season as it relates to individuals, businesses, trusts and estates. Throughout the tax update, we will be providing additional information for changes introduced by the CARES Act and the Consolidated Appropriations Act, 2021; and how these new pieces of legislation will impact the 2020 filing season.\n ------\n\nMonday, January 25, 2021\n \nNoon to 1:00 p.m.\n \nAdvance reservations required - Zoom information sent in registration confirmation\n ------\n\nSpeaker Bios:\n \nCathy Haug:\n \nExperience\n \nWith 20 years of public accounting experience, Cathy provides tax compliance, tax consulting and business consulting services to small businesses and their owners. She provides tax and advisory services to companies in various industries and has significant experience with opportunity planning to maximize her clients’ tax benefits related to recent tax law changes. Cathy also specializes in the nonprofit arena and supervises all 990 preparation for the Carr, Riggs & Ingram Tampa Bay office.\n \nEducation, Licenses & Certifications\n Certified Public Accountant (CPA) â Florida Master of Accountancy, University of South Florida BA in Accounting, University of Tampa \nProfessional Affiliations\n American Institute of CPA’s (AICPA) Florida Institute of Certified Public Accountants (FICPA) Tampa Bay Woman's Society of CPAs Rotary Club of Dunedin Waterside Leadership Pinellas \nRyan Hayden\n \nExperience\n \nRyan is a trusted advisor to clients in the Tampa Bay area. With more than six years of experience in public accounting, he provides tax planning, tax compliance, tax consulting and business valuation services. While he serves individuals and closely-held businesses, his predominant focus and passion is estate and trust tax matters. Ryan is also knowledgeable in state and local tax, and has represented numerous clients before state and local agencies during examination.\n \nRyan is an active member of the American Institute of Certified Public Accountants (AICPA), Florida Institute of Certified Public Accountants (FICPA), National Association of Certified Valuators and Analysts (NACVA) and also a member of numerous local community organizations.\n \nRyan currently serves on the board as Treasurer and Finance Committee Chair at the Dunedin Fine Art Center and is a board member of the Pinellas County Estate Planning Council.\n \nEducation, Licenses & Certifications\n University of South Florida, Bachelor’s Certified Public Accountant (CPA) Certified Valuation Analyst (CVA) \nProfessional Affiliations\n AICPA FICPA NACVA Morton Plant Mease Health Care Foundation Planned Giving Committee Pinellas County Estate Planning Council Suncoast Estate Planning Council
SUMMARY:2020 Tax Update and Beyond - Pinellas County Estate Planning Council, Inc. 
PRIORITY:3
BEGIN:VALARM
TRIGGER:PT18H
ACTION:DISPLAY
DESCRIPTION:Reminder
END:VALARM
END:VEVENT
END:VCALENDAR