BEGIN:VCALENDAR
PRODID:-//hacksw/handcal//NONSGML v1.0//EN
VERSION:2.0
METHOD:PUBLISH
BEGIN:VEVENT
DTSTART:20210517T160000Z
DTEND:20210517T170000Z
LOCATION:Zoom
UID:1990120210517T160000ZIRAs...How Has Planning Changed in the Past Year and How Do You "FIX" Beneficiary Designations After the Death of the Owner? Linda Griffin
DTSTAMP:20260420T182247Z
DESCRIPTION:\nIRAs...How Has Planning Changed in the Past Year and How Do You "FIX" Beneficiary Designations After the Death of the Owner?\n \nPresented by Linda Griffin, J.D., LL.M.\n \n \n ------\n\nMonday - May 17, 2021\n \n12:00 pm - 1:00 pm\n \nAdvance reservations are required\n \nPCEPC Members - FREE\n \nGuests - $15.00\n \nPlease register to be sent the link/code to join the Session.\n ------\n\nThank you to our sponsor!\n \n\n \n \n
SUMMARY:IRAs...How Has Planning Changed in the Past Year and How Do You "FIX" Beneficiary Designations After the Death of the Owner? Linda Griffin - Pinellas County Estate Planning Council, Inc. 
PRIORITY:3
BEGIN:VALARM
TRIGGER:PT18H
ACTION:DISPLAY
DESCRIPTION:Reminder
END:VALARM
END:VEVENT
END:VCALENDAR