BEGIN:VCALENDAR
PRODID:-//hacksw/handcal//NONSGML v1.0//EN
VERSION:2.0
METHOD:PUBLISH
BEGIN:VEVENT
DTSTART:20201029T160000Z
DTEND:20201029T170000Z
LOCATION:Zoom
UID:2027720201029T160000ZVirtual Scavenger Hunt - The 2020 Edition
DTSTAMP:20260420T182432Z
DESCRIPTION:\nVirtual Scavenger Hunt\nThe 2020 Edition\n \n \n \nJoin us from the comfort of your home, office, or home-office!\n \nDetermine the answer to the clues, scavenge around, have fun and earn prize-winning points!\n ------\n\nThursday - October 29, 2020\n \nNoon to 1:00 p.m.\n \nFrom where you might be!\n \n(Zoom link will be sent the week of the event to all registrants)\n ------\n\n$25 Gift Card will be awarded to the winner, with a matching donation to the charity of the winner's choice!\n
SUMMARY:Virtual Scavenger Hunt - The 2020 Edition - Pinellas County Estate Planning Council, Inc. 
PRIORITY:3
BEGIN:VALARM
TRIGGER:PT18H
ACTION:DISPLAY
DESCRIPTION:Reminder
END:VALARM
END:VEVENT
END:VCALENDAR