BEGIN:VCALENDAR
PRODID:-//hacksw/handcal//NONSGML v1.0//EN
VERSION:2.0
METHOD:PUBLISH
BEGIN:VEVENT
DTSTART:20210128T220000Z
DTEND:20210128T230000Z
LOCATION:Zoom
UID:2027820210128T220000ZTech Tips Swap Op - Kickoff 2021
DTSTAMP:20260420T182659Z
DESCRIPTION:\nTech Tips Swap Op - Kickoff 2021\n \nThis happy hour event will be an opportunity to swap tech tips while enjoying your favority MYOB* Martini!\n \n(*Make Your Own Big OR Mind Your Own Business)\n \n \n \n\n \nGrab your favorite martini (or beverage of choice) and join us for a fun exchange of tech tips, apps and strategies that have helped you get through the past 8 months of doing business in a virtual world.\n ------\n\nBring: name of the tool/tip, website, and purpose of use\n \nThese tips will be compiled and sent to the participants after the event.\n ------\n\nTech Tips Swap Op - Kickoff 2021!\n \nThursday, January 28, 2021\n \n5:00 - 6:00 p.m.\n \nFrom where you might be!\n \n(Zoom link will be send the week of event to all registrants)\n ------\n\nParticipants will automatically be entered into a drawing for a $25 Gift Card. A matching donation will be made to the charity of the winner's choice!\n \n \n
SUMMARY:Tech Tips Swap Op - Kickoff 2021 - Pinellas County Estate Planning Council, Inc. 
PRIORITY:3
BEGIN:VALARM
TRIGGER:PT18H
ACTION:DISPLAY
DESCRIPTION:Reminder
END:VALARM
END:VEVENT
END:VCALENDAR