BEGIN:VCALENDAR
PRODID:-//hacksw/handcal//NONSGML v1.0//EN
VERSION:2.0
METHOD:PUBLISH
BEGIN:VEVENT
DTSTART:20210320T120000Z
DTEND:20210320T150000Z
LOCATION:Philippe Park, 2525 Philippe Pkwy, Safety Harbor
UID:2081420210320T120000ZPCEPC in Action - Keep Pinellas Beautiful
DTSTAMP:20260420T182524Z
DESCRIPTION:\nKeep Pinellas Beautiful—Philippe Park, Safety Harbor\n \n \n \nDate: March 20, 2021\n \nMeet Up Location: Philippe Park, Shelter #3\n \n2525 Philippe Pkwy, Safety Harbor, FL 34695\n \nTime: 8:00am– 11:00am\n \nLimited to 25 adults\n \nIn conjunction with Keep Pinellas Beautiful, volunteers will have the opportunity to spend time outdoors and cleanup what others have left behind.  Grabbers, bags, gloves will be provided, but you are welcome to bring your own.  Social distancing and masks required. \n \nNot able to join the C.I.A. in person?  You can participate virtually by cleaning up an area of your choosing.  Collect, snap a photo, email to PCEPC at info@pinellascountyepc.org - we will share on Facebook.\n \n \n
SUMMARY:PCEPC in Action - Keep Pinellas Beautiful - Pinellas County Estate Planning Council, Inc. 
PRIORITY:3
BEGIN:VALARM
TRIGGER:PT18H
ACTION:DISPLAY
DESCRIPTION:Reminder
END:VALARM
END:VEVENT
END:VCALENDAR