BEGIN:VCALENDAR
PRODID:-//hacksw/handcal//NONSGML v1.0//EN
VERSION:2.0
METHOD:PUBLISH
BEGIN:VEVENT
DTSTART:20241217T230000Z
DTEND:20241218T020000Z
LOCATION:Diesel Garage Grill 34200 US Highway 19 N Palm Harbor FL 34684
UID:2488020241217T230000ZHoliday Social and Ugly Sweater Contest
DTSTAMP:20260420T182446Z
DESCRIPTION:\n\n \nJoin us for an unforgettable Holiday Social Soiree co-hosted by the EPC Pinellas County on Tuesday, December 17th, 2024, from 6:00pm to 9:00pm at Diesel Garage Grill & Bar in Palm Harbor, FL. Experience an evening of networking and camaraderie with fellow professionals.\n \nBe part of this joyful gathering, complimentary for members and guests. We look forward to welcoming you!   \n \n \n \nPlease be sure to join our “Optional”  Ugly Sweater Contest\n \n \n \nWhen: December 17, 2024 6:00-9:00 PM\n \nLocation: Diesel Garage Grill 34200 US HWY 19 N Palm Harbor, FL 34684\n \nOn the Patio\n \nThank you to our sponsor!\n \n\n \n \n \nMark your Calendars!! \n \nRuth Eckerd Hall \n \n11:30 Networking   12:00 Lunch with Presenter\n \nMark your Calendars!\n \nJanuary 13, 2025- Tax Update\n \nFebruary 3, 2024- Heckerling Update\n \nMarch- TBD\n \nApril 28, 2025\n \nPsychiatrist Presentation-Expert Witness-Contested Wills and Trusts\n \nMay 15, 2025 \n \nSpring Social with Suncoast Estate Planning Council\n \nMay Meeting Date-TBD\n \n \n
SUMMARY:Holiday Social and Ugly Sweater Contest - Pinellas County Estate Planning Council, Inc. 
PRIORITY:3
BEGIN:VALARM
TRIGGER:PT18H
ACTION:DISPLAY
DESCRIPTION:Reminder
END:VALARM
END:VEVENT
END:VCALENDAR