BEGIN:VCALENDAR
PRODID:-//hacksw/handcal//NONSGML v1.0//EN
VERSION:2.0
METHOD:PUBLISH
BEGIN:VEVENT
DTSTART:20240226T163000Z
DTEND:20240226T180000Z
LOCATION:Bascom's Chop House-3665 Ulmerton Rd Clearwater, FL 33762
UID:2514020240226T163000ZHeckerling Roundtable
DTSTAMP:20260420T182618Z
DESCRIPTION:\n \n \nJoin us to hear from our Heckerling panel as they discuss recent developments in estate planning.\n\n\n \n\n \n\n \nWe will be joined by the Suncoast Estate Planning Council! \n\n\n \n\n \n\n \nWhen: Monday, February 26, 2024\n\n\n \nWhere: Bascom's Chop House\n\n\n \n \n \nRoundtable Panelist:   Alan Gassman, Brandon Ketron, Christopher Denicolo, Jeffrey Southerland, Christesana Mitchell, Tammy Ferrell\n \n \n \nThank you!!!\n \nLunch Sponsors\n \n \n \n\n \n\n\n\n \n\n \n\n \n\n \n\n \n \n \n \n \n\n\n\n \n \n
SUMMARY:Heckerling Roundtable - Pinellas County Estate Planning Council, Inc. 
PRIORITY:3
BEGIN:VALARM
TRIGGER:PT18H
ACTION:DISPLAY
DESCRIPTION:Reminder
END:VALARM
END:VEVENT
END:VCALENDAR