BEGIN:VCALENDAR
PRODID:-//hacksw/handcal//NONSGML v1.0//EN
VERSION:2.0
METHOD:PUBLISH
BEGIN:VEVENT
DTSTART:20240325T153000Z
DTEND:20240325T170000Z
LOCATION:Ruth Eckerd Hall-Dimmitt Lounge
UID:2572320240325T153000ZUncertain Times: Ideas to Navigate through 2026
DTSTAMP:20260420T182432Z
DESCRIPTION:\nUncertain Times: Ideas to Navigate through 2026\n \nLuke Britt is the Practice Director of Advanced Planning. Luke creates sophisticated, custom strategies to solve complex issues for high-net-worth families and business owners across the country. Luke’s practice focuses on wealth transfer solutions that minimize or eliminate gift and estate taxes, as well as exit and succession planning for closely held businesses.\n \nLuke is a Retirement Income Certified Professional®, a Certified Exit Planning Advisor®, a Chartered Life Underwriter®, and an active member of the Association for Advanced Life Underwriting (AALU), the Dallas Estate Planning Council, and the Exit Planning Institute.\n\n\nEducation\n Bachelors of Arts, Criswell College\n \n \n \nThank you to our lunch sponsor! \n
SUMMARY:Uncertain Times: Ideas to Navigate through 2026 - Pinellas County Estate Planning Council, Inc. 
PRIORITY:3
BEGIN:VALARM
TRIGGER:PT18H
ACTION:DISPLAY
DESCRIPTION:Reminder
END:VALARM
END:VEVENT
END:VCALENDAR