BEGIN:VCALENDAR
PRODID:-//hacksw/handcal//NONSGML v1.0//EN
VERSION:2.0
METHOD:PUBLISH
BEGIN:VEVENT
DTSTART:20241118T163000Z
DTEND:20241118T180000Z
LOCATION:Ruth Eckerd Hall-Dimmitt Lounge
UID:2657020241118T163000ZDirt and Death- How Does Real Estate intersect with the Life and Estate Planning Process
DTSTAMP:20260420T182523Z
DESCRIPTION:\nDirt and Death- How Does Real Estate intersect with the Life and Estate Planning Process\n \nPanel Presentation Moderatored By:\n \n\n \nMichael J. Faehner is the founder of Faehner PLLC, based in Oldsmar, Florida. With over 30 years of legal experience, he focuses his practice on estate planning, corporate, real estate and tax law, serving clients throughout the Tampa Bay area.  Michael earned bachelor’s degrees in Finance and History from the University of Notre Dame. He went on to receive his law degree from Valparaiso University Law School, and obtained a Master of Laws degree in taxation from the University of Florida Levin College of Law. He is admitted to practice before all Florida state courts, the U.S. District Court for the Middle District of Florida, the U.S. Tax Court, and the Supreme Court of the United States. Michael is also a licensed title agent with access to five different underwriters for his real estate client and transactions.\n \n\n \nCyndi Olmstead is a real estate professional who specializes in supporting clients through the complex intersections of real estate and estate planning. With a focus on luxury clients, seniors, and those requiring full-service assistance, she provides a concierge-level experience that extends beyond the transaction. Her dedication to exceptional service and personalized guidance ensures her clients receive comprehensive, informed support at every step.\n \n \n \n\n \nNeighborly Senior Care is a chairty in Pinellas County which runs meals on Wheels. Susan McIntyre, Director of Development will be joining our meeting. As a council we would like her to leave with an abundance of donations.\n \nBRING TO LUNCH!\n \nDonation Items Needed:\n \n*Blankets \n \n* Slippers (unisex and non slip)\n \n*Scarves\n \n*Baseball Caps\n \n*Toiletries (shampoo, soap, toothbrush, toothpaste, lotion)\n \n \n \nLunch is sponsored by: \n \n\n
SUMMARY:Dirt and Death- How Does Real Estate intersect with the Life and Estate Planning Process - Pinellas County Estate Planning Council, Inc. 
PRIORITY:3
BEGIN:VALARM
TRIGGER:PT18H
ACTION:DISPLAY
DESCRIPTION:Reminder
END:VALARM
END:VEVENT
END:VCALENDAR