BEGIN:VCALENDAR
PRODID:-//hacksw/handcal//NONSGML v1.0//EN
VERSION:2.0
METHOD:PUBLISH
BEGIN:VEVENT
DTSTART:20240919T151500Z
DTEND:20240919T173000Z
LOCATION:Stetson Tampa Law Center, 1700 N Tampa St, Tampa
UID:2666920240919T151500ZOutstanding Speaker Series
DTSTAMP:20260420T182529Z
DESCRIPTION:\nMark your calendar for the next\n Outstanding Speaker Series [event](https://urldefense.proofpoint.com/v2/url?u=https-3A__cftampabay.org_rsvp-2D2_-3Fct-3Dt-28EMAIL-5FCAMPAIGN-5F8-5F27-5F2024-5FCOPY-5F02-29&d=DwMFaQ&c=euGZstcaTDllvimEN8b7jXrwqOf-v5A_CdpgnVfiiMM&r=4QSHabqMPtv57wUbFXFStCWcdMNGhwqMmEg-OmZFoao&m=sOhzmGR_XeC3IzCgaRT6B71fU2MNXdccr_Pse-5I87VA_pHko9DMOD0naMGacr6C&s=bnvL6khEsftwZlT8zDiEzjzfwdi5TXPVGIEbsGyyr-Q&e=) on \nThursday[,](https://www.google.com/maps/search/4300+W.+Cypress+Street,+Suite+700+%0D%0A+%0D%0A+%0D%0A+,+%0D%0A+%0D%0A+%0D%0A+Tampa+%0D%0A+%0D%0A+%0D%0A+,+%0D%0A+%0D%0A+%0D%0A+FL+%0D%0A+%0D%0A+%0D%0A+%0D%0A+%0D%0A+%0D%0A+33607?entry=gmail&source=g) Sept. 19 \n \nJoin us to hear from: \n[Jennifer Robinson](https://urldefense.proofpoint.com/v2/url?u=https-3A__www.linkedin.com_in_jennifer-2Drobinson-2Da9775495-3Fct-3Dt-28EMAIL-5FCAMPAIGN-5F8-5F27-5F2024-5FCOPY-5F02-29&d=DwMFaQ&c=euGZstcaTDllvimEN8b7jXrwqOf-v5A_CdpgnVfiiMM&r=4QSHabqMPtv57wUbFXFStCWcdMNGhwqMmEg-OmZFoao&m=sOhzmGR_XeC3IzCgaRT6B71fU2MNXdccr_Pse-5I87VA_pHko9DMOD0naMGacr6C&s=KWqjMVIYPi34NnyYDmWEN0uU7QaNOAvnAMAupXwoWyM&e=)[,](https://www.google.com/maps/search/4300+W.+Cypress+Street,+Suite+700+%0D%0A+%0D%0A+%0D%0A+,+%0D%0A+%0D%0A+%0D%0A+Tampa+%0D%0A+%0D%0A+%0D%0A+,+%0D%0A+%0D%0A+%0D%0A+FL+%0D%0A+%0D%0A+%0D%0A+%0D%0A+%0D%0A+%0D%0A+33607?entry=gmail&source=g) Associate General Counsel\n Northern Trust Company\n\n The presentation will provide a detailed review of the Florida Uniform Directed Trust Act, give insight into circumstances when a directed trust could be useful, and offer thoughts and comments about directed trusts from the perspective of fiduciaries.\n \n11:15am-12:00pm - NETWORKING & LUNCH\n12:00pm-1:30pm - PROGRAM\n Attend in person or virtually I Complimentary parking available | No registration fee\n     \n \n    \n2.0 hrs CLE I 1.5 hrs CFP I 2.0 hrs CFTA I 1.5 hrs CPE*\n \n*Course qualifies for Technical Business CPE credit for Florida CPAs. Written proof of attendance will be supplied.\n \n \n \nPresented by Community Foundation Tampa Bay Council of Professional Advisors\n    \n \n   \n[REGISTER by September 12](https://urldefense.proofpoint.com/v2/url?u=https-3A__cftampabay.org_rsvp-2D2_-3Fct-3Dt-28EMAIL-5FCAMPAIGN-5F8-5F27-5F2024-5FCOPY-5F02-29&d=DwMFaQ&c=euGZstcaTDllvimEN8b7jXrwqOf-v5A_CdpgnVfiiMM&r=4QSHabqMPtv57wUbFXFStCWcdMNGhwqMmEg-OmZFoao&m=sOhzmGR_XeC3IzCgaRT6B71fU2MNXdccr_Pse-5I87VA_pHko9DMOD0naMGacr6C&s=bnvL6khEsftwZlT8zDiEzjzfwdi5TXPVGIEbsGyyr-Q&e=)\n  \n 
SUMMARY:Outstanding Speaker Series - Pinellas County Estate Planning Council, Inc. 
PRIORITY:3
BEGIN:VALARM
TRIGGER:PT18H
ACTION:DISPLAY
DESCRIPTION:Reminder
END:VALARM
END:VEVENT
END:VCALENDAR