BEGIN:VCALENDAR
PRODID:-//hacksw/handcal//NONSGML v1.0//EN
VERSION:2.0
METHOD:PUBLISH
BEGIN:VEVENT
DTSTART:20250113T163000Z
DTEND:20250113T180000Z
LOCATION:Ruth Eckerd Hall-Dimmitt Lounge
UID:2678320250113T163000ZTax Update
DTSTAMP:20260420T182812Z
DESCRIPTION:\nHappy New Year\n \nJoin us for Lunch at Ruth Eckerd Hall-Dimmitt Lounge\n \nJanuary 13, 2025 \n \n11:30 Networking \n \n12:00 Lunch and Presentation\n \nTopic: Tax Update\n \nPresented by :\n \nLindsey Crown Hardee\n \n \n \nLindsey is the third generation of the Crown family to carry on the tradition of providing premier tax planning to the Tampa Bay community. As the firm’s managing partner, Lindsey Crown Hardee has over 20 years of public accounting experience. With a deep and diverse background in tax planning, Lindsey’s specialty is consulting closely held and family owned businesses. She assists owners with managing all aspects of their operations including growth, cash flow, succession, and proactive tax planning. Lindsey also focuses on strategic planning for high net worth individuals and families. She works closely with her clients and their advisors on the crafting and maintenance of their estate and trust plans.\n \nLindsey holds Bachelor of Science in Accounting and Master of Accounting degrees from the University of Florida. Lindsey began her career in the tax department of Deloitte & Touche. She joined Crown & Company in 2005. She is a member of the American Institute of Certified Public Accountants and the Florida Institute of Certified Public Accountants. Active in the community, Lindsey currently serves on the Boards of the Morton Plant Mease Foundation, the Community Dental Clinic, and the Robinson High School Foundation. When not working, Lindsey enjoys time with her husband and two children.\n \n \n \nThank you to our lunch sponsor!\n \n\n \n \n
SUMMARY:Tax Update - Pinellas County Estate Planning Council, Inc. 
PRIORITY:3
BEGIN:VALARM
TRIGGER:PT18H
ACTION:DISPLAY
DESCRIPTION:Reminder
END:VALARM
END:VEVENT
END:VCALENDAR