BEGIN:VCALENDAR
PRODID:-//hacksw/handcal//NONSGML v1.0//EN
VERSION:2.0
METHOD:PUBLISH
BEGIN:VEVENT
DTSTART:20250929T153000Z
DTEND:20250929T170000Z
LOCATION:Ruth Eckerd Hall- The Great Room
UID:2817720250929T153000ZOne Big Beautiful Bill Act
DTSTAMP:20260420T182531Z
DESCRIPTION:\n  \n  \nWe’re thrilled to invite you to the Pinellas County Estate Planning Council’s first meeting of the 2025–2026 Program Year! \n  \nLet’s kick things off together with a dynamic and engaging lunch event designed to reconnect, inspire, and inform. \n  \n Event Details \n  \nDate: Monday, September 29, 2025 \nTime: \n• 11:30 AM – Networking & Lunch \n• 12:00 PM – Presentation Begins \nLocation: Ruth Eckerd Hall, 1111 McMullen Booth Rd, Clearwater, FL \n \n \nTopic:\n \n“One Big Beautiful Bill Act”\n \nFeaturing an expert panel of professionals from our local firms:\n \nGassman Denicolo & Ketron P.A, CRI CPA's and Advisors, PDR CPA's and Advisors\n \nModerated by: Older Lundy Koch & Martino\n \n  \n  \nJoin us as they break down the latest developments and practical implications in estate planning legislation. \n  \n  \nLet’s fill the room and make this a powerful start to the new season of programming, professional growth, and community. Whether you’re a long-time member or new to the Council, this is a can’t-miss event! \n  \n  \n \n  \n Special Thanks to Our Sponsor \n  \n[](https://gassmanlaw.com) \nWe’re grateful for their generous support in helping us launch another exciting year. \n  \n   \n  \n 
SUMMARY:One Big Beautiful Bill Act - Pinellas County Estate Planning Council, Inc. 
PRIORITY:3
BEGIN:VALARM
TRIGGER:PT18H
ACTION:DISPLAY
DESCRIPTION:Reminder
END:VALARM
END:VEVENT
END:VCALENDAR