BEGIN:VCALENDAR
PRODID:-//hacksw/handcal//NONSGML v1.0//EN
VERSION:2.0
METHOD:PUBLISH
BEGIN:VEVENT
DTSTART:20250929T151500Z
DTEND:20250929T170000Z
LOCATION:1610 N Tampa St, Street, FL  33602
UID:2859820250929T151500ZOutstanding Speaker Series
DTSTAMP:20260420T182446Z
DESCRIPTION:\nFall Outstanding Speaker Series \n \nPresented by: \n \nCommunity Foundation Tampa Bay\n \nThursday, September 25, 2025 11:15am-1:30pm\n \nChester H. Ferguson Law Center (1610 N Tampa St, Street, FL  33602)\n \n“Tips, Tricks, and Traps of Donating Closely Held Businesses to Tax-Exempt Entities”\n \nKelly Helmuth, JD, Partner, Holland & Knight\n \nRegister Here:\n \nhttps://www.cftampabay.org\n
SUMMARY:Outstanding Speaker Series - Pinellas County Estate Planning Council, Inc. 
PRIORITY:3
BEGIN:VALARM
TRIGGER:PT18H
ACTION:DISPLAY
DESCRIPTION:Reminder
END:VALARM
END:VEVENT
END:VCALENDAR