BEGIN:VCALENDAR
PRODID:-//hacksw/handcal//NONSGML v1.0//EN
VERSION:2.0
METHOD:PUBLISH
BEGIN:VEVENT
DTSTART:20251016T213000Z
DTEND:20251016T230000Z
LOCATION:Diesel Garage Grill 34200 US Highway 19 N Palm Harbor FL 34684
UID:2862920251016T213000ZFall Social
DTSTAMP:20260420T182431Z
DESCRIPTION:\nSpeed Networking Event!\n \nCome enjoy an evening with Estate Planning Professionals!\n \nOctober 16, 2025\n \n5:30PM- 7:00PM\n \n\n \nThank you to our evening sponsor!\n \n\n
SUMMARY:Fall Social - Pinellas County Estate Planning Council, Inc. 
PRIORITY:3
BEGIN:VALARM
TRIGGER:PT18H
ACTION:DISPLAY
DESCRIPTION:Reminder
END:VALARM
END:VEVENT
END:VCALENDAR