BEGIN:VCALENDAR
PRODID:-//hacksw/handcal//NONSGML v1.0//EN
VERSION:2.0
METHOD:PUBLISH
BEGIN:VEVENT
DTSTART:20251117T163000Z
DTEND:20251117T180000Z
LOCATION:Ruth Eckerd Hall-Dimmitt Lounge
UID:2863020251117T163000ZWomen in Estate Planning
DTSTAMP:20260420T182447Z
DESCRIPTION:\nWomen’s greater longevity has significant implications for tax planning,especially in the areas of estate, gift, and retirement planning. The fact that women, on average, outlive men means that they are more likely to be the surviving spouse, to inherit assets, and to be responsible for managing and distributing family wealth in later years. This demographic reality creates both challenges and opportunities that should be addressed through careful tax and estate planning.\n \nCome learn more about women in estate planning. Don't miss this panel presentation!\n \nMeet your panel!\n \n\n \nAnn Paxton, CPA, ABV, MBA\n \nPDR CPAs + Advisors\n \n\n \nS. Noel White, Esq.\n \nAttorney at Law\n \nSylvia Noel White, P.A.\n \n \n \n\n \nSusan Washburn, CFP®, CeFT®, JD\n \nPrincipal, Senior Financial Planner\n \nProvise Management Group\n \n \n \n\n \nSheila Kinman, CAP\n \nSVP, Philanthropy\n \n \n \nCommunity Foundation Tampa Bay\n \n \n \nMeet your Moderator!\n \n\n \nKit Van Pelt, Esquire\n \nOlder Lundy Koch & Martino\n \n \n \n \n \nThank you to our sponsors:\n \n\n \n\n \n \n \n \n \n \n
SUMMARY:Women in Estate Planning - Pinellas County Estate Planning Council, Inc. 
PRIORITY:3
BEGIN:VALARM
TRIGGER:PT18H
ACTION:DISPLAY
DESCRIPTION:Reminder
END:VALARM
END:VEVENT
END:VCALENDAR