BEGIN:VCALENDAR
PRODID:-//hacksw/handcal//NONSGML v1.0//EN
VERSION:2.0
METHOD:PUBLISH
BEGIN:VEVENT
DTSTART:20251215T163000Z
DTEND:20251215T180000Z
LOCATION:Ruth Eckerd Hall-Dimmitt Lounge
UID:2863120251215T163000ZWhat's Making Your Phone Ring?
DTSTAMP:20260420T182529Z
DESCRIPTION:\nTable Talk Lunch Discussion!\n \n \n \nBring a donation!\n \nWe are incredibly grateful that Pinellas Estate Planning Council will be collecting and donating toys for our patients at Johns Hopkins All Children’s Hospital this holiday season.  To assist our group in making their toy selection, here are some helpful links:\n For a complete list of suggested donation items, [please see our toy donation wish list.](https://www.hopkinsmedicine.org/-/media/migration/all-childrens-hospital/documents/services/child-life/donate-toys-and-items/child-life-donation-wishlist-website.pdf) Amazon Registries Link: [https://www.amazon.com/registries/gl/search?name=Johns+Hopkins+All+Children%27](https://www.amazon.com/registries/gl/search?name=Johns+Hopkins+All+Children%27s) \n \n \nThank you to our sponsor!\n \n\n \n \n
SUMMARY:What's Making Your Phone Ring? - Pinellas County Estate Planning Council, Inc. 
PRIORITY:3
BEGIN:VALARM
TRIGGER:PT18H
ACTION:DISPLAY
DESCRIPTION:Reminder
END:VALARM
END:VEVENT
END:VCALENDAR