BEGIN:VCALENDAR
PRODID:-//hacksw/handcal//NONSGML v1.0//EN
VERSION:2.0
METHOD:PUBLISH
BEGIN:VEVENT
DTSTART:20260212T163000Z
DTEND:20260212T180000Z
LOCATION:Franklin Templeton 100 Foundation Pwky Bldg 100 1st Floor Auditorium St Petersburg FL 33716
UID:2873920260212T163000Z"What the Heck we Learned at Heckerling"
DTSTAMP:20260420T182431Z
DESCRIPTION:\nAddress: \n \n[100 Fountain Parkway](https://www.google.com/maps/search/100+Fountain+Parkway+%0D%0A+Building+100?entry=gmail&source=g)\n \n[Building 100](https://www.google.com/maps/search/100+Fountain+Parkway+%0D%0A+Building+100?entry=gmail&source=g), 1st Floor – Auditorium\n \nSt. Petersburg, FL. 33716\n \n \n \nDon't MIss this panel presentation! \n "What the Heck we Learned at Heckerling" \nPresentor: Alan Gassman \n \n  \nCo-presenters will be: Brandon Ketron, Peter Farrell \n  \n \n  \nAND \n  \nChristopher Denicolo, Brock Exline, Chriseanna Mitchell\n \n \n \nThank you to our Sponsor!\n \n\n
SUMMARY:"What the Heck we Learned at Heckerling" - Pinellas County Estate Planning Council, Inc. 
PRIORITY:3
BEGIN:VALARM
TRIGGER:PT18H
ACTION:DISPLAY
DESCRIPTION:Reminder
END:VALARM
END:VEVENT
END:VCALENDAR