BEGIN:VCALENDAR
PRODID:-//hacksw/handcal//NONSGML v1.0//EN
VERSION:2.0
METHOD:PUBLISH
BEGIN:VEVENT
DTSTART:20251203T123000Z
DTEND:20251203T140000Z
LOCATION:2532 State Road 580, Clearwater, FL  33761
UID:2874120251203T123000ZCoffee and Conversation
DTSTAMP:20260420T182213Z
DESCRIPTION:
SUMMARY:Coffee and Conversation - Pinellas County Estate Planning Council, Inc. 
PRIORITY:3
BEGIN:VALARM
TRIGGER:PT18H
ACTION:DISPLAY
DESCRIPTION:Reminder
END:VALARM
END:VEVENT
END:VCALENDAR