BEGIN:VCALENDAR
PRODID:-//hacksw/handcal//NONSGML v1.0//EN
VERSION:2.0
METHOD:PUBLISH
BEGIN:VEVENT
DTSTART:20100125T170000Z
DTEND:20100125T180000Z
LOCATION:Clearwater Country Club
UID:440320100125T170000ZElectronically Filing of Court Documents & Probate Matters
DTSTAMP:20260420T182523Z
DESCRIPTION:
SUMMARY:Electronically Filing of Court Documents & Probate Matters - Pinellas County Estate Planning Council, Inc. 
PRIORITY:3
BEGIN:VALARM
TRIGGER:PT18H
ACTION:DISPLAY
DESCRIPTION:Reminder
END:VALARM
END:VEVENT
END:VCALENDAR