BEGIN:VCALENDAR
PRODID:-//hacksw/handcal//NONSGML v1.0//EN
VERSION:2.0
METHOD:PUBLISH
BEGIN:VEVENT
DTSTART:20100222T170000Z
DTEND:20100222T180000Z
LOCATION:Clearwater Country Club
UID:440420100222T170000ZQuantifying the Most Compelling Transfer Tax Strategies
DTSTAMP:20260420T182529Z
DESCRIPTION:\nSTEPHEN P. EMMA Bernstein Global Wealth Management Director \n
SUMMARY:Quantifying the Most Compelling Transfer Tax Strategies - Pinellas County Estate Planning Council, Inc. 
PRIORITY:3
BEGIN:VALARM
TRIGGER:PT18H
ACTION:DISPLAY
DESCRIPTION:Reminder
END:VALARM
END:VEVENT
END:VCALENDAR