BEGIN:VCALENDAR
PRODID:-//hacksw/handcal//NONSGML v1.0//EN
VERSION:2.0
METHOD:PUBLISH
BEGIN:VEVENT
DTSTART:20100315T160000Z
DTEND:20100315T170000Z
LOCATION:Clearwater Country Club
UID:440520100315T160000Z“2010-The Year that wasn’t supposed to Happen but has?   How to Deal with Estate and Tax Issues in a
DTSTAMP:20260420T182657Z
DESCRIPTION:
SUMMARY:“2010-The Year that wasn’t supposed to Happen but has?   How to Deal with Estate and Tax Issues in a - Pinellas County Estate Planning Council, Inc. 
PRIORITY:3
BEGIN:VALARM
TRIGGER:PT18H
ACTION:DISPLAY
DESCRIPTION:Reminder
END:VALARM
END:VEVENT
END:VCALENDAR