BEGIN:VCALENDAR
PRODID:-//hacksw/handcal//NONSGML v1.0//EN
VERSION:2.0
METHOD:PUBLISH
BEGIN:VEVENT
DTSTART:20100517T160000Z
DTEND:20100517T170000Z
LOCATION:Clearwater Country Club
UID:447420100517T160000Z"Deferred Charitable Giving: CRATs; CRUTs; and NIMCRUTS."
DTSTAMP:20260420T182351Z
DESCRIPTION:
SUMMARY:"Deferred Charitable Giving: CRATs; CRUTs; and NIMCRUTS." - Pinellas County Estate Planning Council, Inc. 
PRIORITY:3
BEGIN:VALARM
TRIGGER:PT18H
ACTION:DISPLAY
DESCRIPTION:Reminder
END:VALARM
END:VEVENT
END:VCALENDAR