BEGIN:VCALENDAR
PRODID:-//hacksw/handcal//NONSGML v1.0//EN
VERSION:2.0
METHOD:PUBLISH
BEGIN:VEVENT
DTSTART:20100922T210000Z
DTEND:20100922T230000Z
LOCATION:Dunedin Fine Arts Center
UID:447520100922T210000ZFall Kick-Off at the Dunedin Fine Arts Center
DTSTAMP:20260420T182248Z
DESCRIPTION:
SUMMARY:Fall Kick-Off at the Dunedin Fine Arts Center - Pinellas County Estate Planning Council, Inc. 
PRIORITY:3
BEGIN:VALARM
TRIGGER:PT18H
ACTION:DISPLAY
DESCRIPTION:Reminder
END:VALARM
END:VEVENT
END:VCALENDAR